BEGIN:VCALENDAR
VERSION:2.0
PRODID:-//Local 63 - ECPv6.15.18//NONSGML v1.0//EN
CALSCALE:GREGORIAN
METHOD:PUBLISH
X-WR-CALNAME:Local 63
X-ORIGINAL-URL:https://iueclocal63.org
X-WR-CALDESC:Events for Local 63
REFRESH-INTERVAL;VALUE=DURATION:PT1H
X-Robots-Tag:noindex
X-PUBLISHED-TTL:PT1H
BEGIN:VTIMEZONE
TZID:UTC
BEGIN:STANDARD
TZOFFSETFROM:+0000
TZOFFSETTO:+0000
TZNAME:UTC
DTSTART:20260101T000000
END:STANDARD
END:VTIMEZONE
BEGIN:VEVENT
DTSTART;TZID=UTC:20270506T170000
DTEND;TZID=UTC:20270506T200000
DTSTAMP:20260421T083027
CREATED:20251017T145539Z
LAST-MODIFIED:20251017T145633Z
UID:10000797-1809622800-1809633600@iueclocal63.org
SUMMARY:Executive Board Meeting
DESCRIPTION:
URL:https://iueclocal63.org/event/executive-board-meeting-3-2-2/2027-05-06/
LOCATION:3815 N Santa Fe Ave.\, Suite 126
CATEGORIES:default
END:VEVENT
BEGIN:VEVENT
DTSTART;TZID=UTC:20270603T170000
DTEND;TZID=UTC:20270603T200000
DTSTAMP:20260421T083027
CREATED:20251017T145539Z
LAST-MODIFIED:20251017T145633Z
UID:10000798-1812042000-1812052800@iueclocal63.org
SUMMARY:Executive Board Meeting
DESCRIPTION:
URL:https://iueclocal63.org/event/executive-board-meeting-3-2-2/2027-06-03/
LOCATION:3815 N Santa Fe Ave.\, Suite 126
CATEGORIES:default
END:VEVENT
BEGIN:VEVENT
DTSTART;TZID=UTC:20270701T170000
DTEND;TZID=UTC:20270701T200000
DTSTAMP:20260421T083027
CREATED:20251017T145539Z
LAST-MODIFIED:20251017T145633Z
UID:10000799-1814461200-1814472000@iueclocal63.org
SUMMARY:Executive Board Meeting
DESCRIPTION:
URL:https://iueclocal63.org/event/executive-board-meeting-3-2-2/2027-07-01/
LOCATION:3815 N Santa Fe Ave.\, Suite 126
CATEGORIES:default
END:VEVENT
BEGIN:VEVENT
DTSTART;TZID=UTC:20270805T170000
DTEND;TZID=UTC:20270805T200000
DTSTAMP:20260421T083027
CREATED:20251017T145539Z
LAST-MODIFIED:20251017T145633Z
UID:10000800-1817485200-1817496000@iueclocal63.org
SUMMARY:Executive Board Meeting
DESCRIPTION:
URL:https://iueclocal63.org/event/executive-board-meeting-3-2-2/2027-08-05/
LOCATION:3815 N Santa Fe Ave.\, Suite 126
CATEGORIES:default
END:VEVENT
BEGIN:VEVENT
DTSTART;TZID=UTC:20270902T170000
DTEND;TZID=UTC:20270902T200000
DTSTAMP:20260421T083027
CREATED:20251017T145539Z
LAST-MODIFIED:20251017T145633Z
UID:10000801-1819904400-1819915200@iueclocal63.org
SUMMARY:Executive Board Meeting
DESCRIPTION:
URL:https://iueclocal63.org/event/executive-board-meeting-3-2-2/2027-09-02/
LOCATION:3815 N Santa Fe Ave.\, Suite 126
CATEGORIES:default
END:VEVENT
BEGIN:VEVENT
DTSTART;TZID=UTC:20271007T170000
DTEND;TZID=UTC:20271007T200000
DTSTAMP:20260421T083027
CREATED:20251017T145539Z
LAST-MODIFIED:20251017T145633Z
UID:10000802-1822928400-1822939200@iueclocal63.org
SUMMARY:Executive Board Meeting
DESCRIPTION:
URL:https://iueclocal63.org/event/executive-board-meeting-3-2-2/2027-10-07/
LOCATION:3815 N Santa Fe Ave.\, Suite 126
CATEGORIES:default
END:VEVENT
BEGIN:VEVENT
DTSTART;TZID=UTC:20271104T170000
DTEND;TZID=UTC:20271104T200000
DTSTAMP:20260421T083027
CREATED:20251017T145539Z
LAST-MODIFIED:20251017T145633Z
UID:10000803-1825347600-1825358400@iueclocal63.org
SUMMARY:Executive Board Meeting
DESCRIPTION:
URL:https://iueclocal63.org/event/executive-board-meeting-3-2-2/2027-11-04/
LOCATION:3815 N Santa Fe Ave.\, Suite 126
CATEGORIES:default
END:VEVENT
BEGIN:VEVENT
DTSTART;TZID=UTC:20271202T170000
DTEND;TZID=UTC:20271202T200000
DTSTAMP:20260421T083027
CREATED:20251017T145539Z
LAST-MODIFIED:20251017T145633Z
UID:10000804-1827766800-1827777600@iueclocal63.org
SUMMARY:Executive Board Meeting
DESCRIPTION:
URL:https://iueclocal63.org/event/executive-board-meeting-3-2-2/2027-12-02/
LOCATION:3815 N Santa Fe Ave.\, Suite 126
CATEGORIES:default
END:VEVENT
BEGIN:VEVENT
DTSTART;TZID=UTC:20280106T170000
DTEND;TZID=UTC:20280106T200000
DTSTAMP:20260421T083027
CREATED:20251017T145539Z
LAST-MODIFIED:20251017T145633Z
UID:10000805-1830790800-1830801600@iueclocal63.org
SUMMARY:Executive Board Meeting
DESCRIPTION:
URL:https://iueclocal63.org/event/executive-board-meeting-3-2-2/2028-01-06/
LOCATION:3815 N Santa Fe Ave.\, Suite 126
CATEGORIES:default
END:VEVENT
BEGIN:VEVENT
DTSTART;TZID=UTC:20280203T170000
DTEND;TZID=UTC:20280203T200000
DTSTAMP:20260421T083027
CREATED:20251017T145539Z
LAST-MODIFIED:20251017T145633Z
UID:10000806-1833210000-1833220800@iueclocal63.org
SUMMARY:Executive Board Meeting
DESCRIPTION:
URL:https://iueclocal63.org/event/executive-board-meeting-3-2-2/2028-02-03/
LOCATION:3815 N Santa Fe Ave.\, Suite 126
CATEGORIES:default
END:VEVENT
BEGIN:VEVENT
DTSTART;TZID=UTC:20280302T170000
DTEND;TZID=UTC:20280302T200000
DTSTAMP:20260421T083027
CREATED:20251017T145539Z
LAST-MODIFIED:20251017T145633Z
UID:10000807-1835629200-1835640000@iueclocal63.org
SUMMARY:Executive Board Meeting
DESCRIPTION:
URL:https://iueclocal63.org/event/executive-board-meeting-3-2-2/2028-03-02/
LOCATION:3815 N Santa Fe Ave.\, Suite 126
CATEGORIES:default
END:VEVENT
BEGIN:VEVENT
DTSTART;TZID=UTC:20280406T170000
DTEND;TZID=UTC:20280406T200000
DTSTAMP:20260421T083027
CREATED:20251017T145539Z
LAST-MODIFIED:20251017T145633Z
UID:10000808-1838653200-1838664000@iueclocal63.org
SUMMARY:Executive Board Meeting
DESCRIPTION:
URL:https://iueclocal63.org/event/executive-board-meeting-3-2-2/2028-04-06/
LOCATION:3815 N Santa Fe Ave.\, Suite 126
CATEGORIES:default
END:VEVENT
BEGIN:VEVENT
DTSTART;TZID=UTC:20280504T170000
DTEND;TZID=UTC:20280504T200000
DTSTAMP:20260421T083027
CREATED:20251017T145539Z
LAST-MODIFIED:20251017T145633Z
UID:10000809-1841072400-1841083200@iueclocal63.org
SUMMARY:Executive Board Meeting
DESCRIPTION:
URL:https://iueclocal63.org/event/executive-board-meeting-3-2-2/2028-05-04/
LOCATION:3815 N Santa Fe Ave.\, Suite 126
CATEGORIES:default
END:VEVENT
BEGIN:VEVENT
DTSTART;TZID=UTC:20280601T170000
DTEND;TZID=UTC:20280601T200000
DTSTAMP:20260421T083027
CREATED:20251017T145539Z
LAST-MODIFIED:20251017T145633Z
UID:10000810-1843491600-1843502400@iueclocal63.org
SUMMARY:Executive Board Meeting
DESCRIPTION:
URL:https://iueclocal63.org/event/executive-board-meeting-3-2-2/2028-06-01/
LOCATION:3815 N Santa Fe Ave.\, Suite 126
CATEGORIES:default
END:VEVENT
BEGIN:VEVENT
DTSTART;TZID=UTC:20280706T170000
DTEND;TZID=UTC:20280706T200000
DTSTAMP:20260421T083027
CREATED:20251017T145539Z
LAST-MODIFIED:20251017T145633Z
UID:10000811-1846515600-1846526400@iueclocal63.org
SUMMARY:Executive Board Meeting
DESCRIPTION:
URL:https://iueclocal63.org/event/executive-board-meeting-3-2-2/2028-07-06/
LOCATION:3815 N Santa Fe Ave.\, Suite 126
CATEGORIES:default
END:VEVENT
BEGIN:VEVENT
DTSTART;TZID=UTC:20280803T170000
DTEND;TZID=UTC:20280803T200000
DTSTAMP:20260421T083027
CREATED:20251017T145539Z
LAST-MODIFIED:20251017T145633Z
UID:10000812-1848934800-1848945600@iueclocal63.org
SUMMARY:Executive Board Meeting
DESCRIPTION:
URL:https://iueclocal63.org/event/executive-board-meeting-3-2-2/2028-08-03/
LOCATION:3815 N Santa Fe Ave.\, Suite 126
CATEGORIES:default
END:VEVENT
BEGIN:VEVENT
DTSTART;TZID=UTC:20280907T170000
DTEND;TZID=UTC:20280907T200000
DTSTAMP:20260421T083027
CREATED:20251017T145539Z
LAST-MODIFIED:20251017T145633Z
UID:10000813-1851958800-1851969600@iueclocal63.org
SUMMARY:Executive Board Meeting
DESCRIPTION:
URL:https://iueclocal63.org/event/executive-board-meeting-3-2-2/2028-09-07/
LOCATION:3815 N Santa Fe Ave.\, Suite 126
CATEGORIES:default
END:VEVENT
BEGIN:VEVENT
DTSTART;TZID=UTC:20281005T170000
DTEND;TZID=UTC:20281005T200000
DTSTAMP:20260421T083027
CREATED:20251017T145539Z
LAST-MODIFIED:20251017T145633Z
UID:10000814-1854378000-1854388800@iueclocal63.org
SUMMARY:Executive Board Meeting
DESCRIPTION:
URL:https://iueclocal63.org/event/executive-board-meeting-3-2-2/2028-10-05/
LOCATION:3815 N Santa Fe Ave.\, Suite 126
CATEGORIES:default
END:VEVENT
BEGIN:VEVENT
DTSTART;TZID=UTC:20281102T170000
DTEND;TZID=UTC:20281102T200000
DTSTAMP:20260421T083027
CREATED:20251017T145539Z
LAST-MODIFIED:20251017T145633Z
UID:10000815-1856797200-1856808000@iueclocal63.org
SUMMARY:Executive Board Meeting
DESCRIPTION:
URL:https://iueclocal63.org/event/executive-board-meeting-3-2-2/2028-11-02/
LOCATION:3815 N Santa Fe Ave.\, Suite 126
CATEGORIES:default
END:VEVENT
BEGIN:VEVENT
DTSTART;TZID=UTC:20281207T170000
DTEND;TZID=UTC:20281207T200000
DTSTAMP:20260421T083027
CREATED:20251017T145539Z
LAST-MODIFIED:20251017T145633Z
UID:10000816-1859821200-1859832000@iueclocal63.org
SUMMARY:Executive Board Meeting
DESCRIPTION:
URL:https://iueclocal63.org/event/executive-board-meeting-3-2-2/2028-12-07/
LOCATION:3815 N Santa Fe Ave.\, Suite 126
CATEGORIES:default
END:VEVENT
BEGIN:VEVENT
DTSTART;TZID=UTC:20290104T170000
DTEND;TZID=UTC:20290104T200000
DTSTAMP:20260421T083027
CREATED:20251017T145539Z
LAST-MODIFIED:20251017T145633Z
UID:10000817-1862240400-1862251200@iueclocal63.org
SUMMARY:Executive Board Meeting
DESCRIPTION:
URL:https://iueclocal63.org/event/executive-board-meeting-3-2-2/2029-01-04/
LOCATION:3815 N Santa Fe Ave.\, Suite 126
CATEGORIES:default
END:VEVENT
BEGIN:VEVENT
DTSTART;TZID=UTC:20290201T170000
DTEND;TZID=UTC:20290201T200000
DTSTAMP:20260421T083027
CREATED:20251017T145539Z
LAST-MODIFIED:20251017T145633Z
UID:10000818-1864659600-1864670400@iueclocal63.org
SUMMARY:Executive Board Meeting
DESCRIPTION:
URL:https://iueclocal63.org/event/executive-board-meeting-3-2-2/2029-02-01/
LOCATION:3815 N Santa Fe Ave.\, Suite 126
CATEGORIES:default
END:VEVENT
BEGIN:VEVENT
DTSTART;TZID=UTC:20290301T170000
DTEND;TZID=UTC:20290301T200000
DTSTAMP:20260421T083027
CREATED:20251017T145539Z
LAST-MODIFIED:20251017T145633Z
UID:10000819-1867078800-1867089600@iueclocal63.org
SUMMARY:Executive Board Meeting
DESCRIPTION:
URL:https://iueclocal63.org/event/executive-board-meeting-3-2-2/2029-03-01/
LOCATION:3815 N Santa Fe Ave.\, Suite 126
CATEGORIES:default
END:VEVENT
BEGIN:VEVENT
DTSTART;TZID=UTC:20290405T170000
DTEND;TZID=UTC:20290405T200000
DTSTAMP:20260421T083027
CREATED:20251017T145539Z
LAST-MODIFIED:20251017T145633Z
UID:10000820-1870102800-1870113600@iueclocal63.org
SUMMARY:Executive Board Meeting
DESCRIPTION:
URL:https://iueclocal63.org/event/executive-board-meeting-3-2-2/2029-04-05/
LOCATION:3815 N Santa Fe Ave.\, Suite 126
CATEGORIES:default
END:VEVENT
BEGIN:VEVENT
DTSTART;TZID=UTC:20290503T170000
DTEND;TZID=UTC:20290503T200000
DTSTAMP:20260421T083027
CREATED:20251017T145539Z
LAST-MODIFIED:20251017T145633Z
UID:10000821-1872522000-1872532800@iueclocal63.org
SUMMARY:Executive Board Meeting
DESCRIPTION:
URL:https://iueclocal63.org/event/executive-board-meeting-3-2-2/2029-05-03/
LOCATION:3815 N Santa Fe Ave.\, Suite 126
CATEGORIES:default
END:VEVENT
BEGIN:VEVENT
DTSTART;TZID=UTC:20290607T170000
DTEND;TZID=UTC:20290607T200000
DTSTAMP:20260421T083027
CREATED:20251017T145539Z
LAST-MODIFIED:20251017T145633Z
UID:10000822-1875546000-1875556800@iueclocal63.org
SUMMARY:Executive Board Meeting
DESCRIPTION:
URL:https://iueclocal63.org/event/executive-board-meeting-3-2-2/2029-06-07/
LOCATION:3815 N Santa Fe Ave.\, Suite 126
CATEGORIES:default
END:VEVENT
BEGIN:VEVENT
DTSTART;TZID=UTC:20290705T170000
DTEND;TZID=UTC:20290705T200000
DTSTAMP:20260421T083027
CREATED:20251017T145539Z
LAST-MODIFIED:20251017T145633Z
UID:10000823-1877965200-1877976000@iueclocal63.org
SUMMARY:Executive Board Meeting
DESCRIPTION:
URL:https://iueclocal63.org/event/executive-board-meeting-3-2-2/2029-07-05/
LOCATION:3815 N Santa Fe Ave.\, Suite 126
CATEGORIES:default
END:VEVENT
BEGIN:VEVENT
DTSTART;TZID=UTC:20290802T170000
DTEND;TZID=UTC:20290802T200000
DTSTAMP:20260421T083027
CREATED:20251017T145539Z
LAST-MODIFIED:20251017T145633Z
UID:10000824-1880384400-1880395200@iueclocal63.org
SUMMARY:Executive Board Meeting
DESCRIPTION:
URL:https://iueclocal63.org/event/executive-board-meeting-3-2-2/2029-08-02/
LOCATION:3815 N Santa Fe Ave.\, Suite 126
CATEGORIES:default
END:VEVENT
BEGIN:VEVENT
DTSTART;TZID=UTC:20290906T170000
DTEND;TZID=UTC:20290906T200000
DTSTAMP:20260421T083027
CREATED:20251017T145539Z
LAST-MODIFIED:20251017T145633Z
UID:10000825-1883408400-1883419200@iueclocal63.org
SUMMARY:Executive Board Meeting
DESCRIPTION:
URL:https://iueclocal63.org/event/executive-board-meeting-3-2-2/2029-09-06/
LOCATION:3815 N Santa Fe Ave.\, Suite 126
CATEGORIES:default
END:VEVENT
BEGIN:VEVENT
DTSTART;TZID=UTC:20291004T170000
DTEND;TZID=UTC:20291004T200000
DTSTAMP:20260421T083027
CREATED:20251017T145539Z
LAST-MODIFIED:20251017T145633Z
UID:10000826-1885827600-1885838400@iueclocal63.org
SUMMARY:Executive Board Meeting
DESCRIPTION:
URL:https://iueclocal63.org/event/executive-board-meeting-3-2-2/2029-10-04/
LOCATION:3815 N Santa Fe Ave.\, Suite 126
CATEGORIES:default
END:VEVENT
END:VCALENDAR