BEGIN:VCALENDAR
VERSION:2.0
PRODID:-//Local 63 - ECPv6.15.18//NONSGML v1.0//EN
CALSCALE:GREGORIAN
METHOD:PUBLISH
X-ORIGINAL-URL:https://iueclocal63.org
X-WR-CALDESC:Events for Local 63
REFRESH-INTERVAL;VALUE=DURATION:PT1H
X-Robots-Tag:noindex
X-PUBLISHED-TTL:PT1H
BEGIN:VTIMEZONE
TZID:UTC
BEGIN:STANDARD
TZOFFSETFROM:+0000
TZOFFSETTO:+0000
TZNAME:UTC
DTSTART:20270101T000000
END:STANDARD
END:VTIMEZONE
BEGIN:VEVENT
DTSTART;TZID=UTC:20280907T173000
DTEND;TZID=UTC:20280907T183000
DTSTAMP:20260419T180639
CREATED:20250514T091444Z
LAST-MODIFIED:20250514T091630Z
UID:10000486-1851960600-1851964200@iueclocal63.org
SUMMARY:Union Meeting
DESCRIPTION:
URL:https://iueclocal63.org/event/union-meeting-2-2/2028-09-07/
LOCATION:3815 N Santa Fe Ave.\, Conference Room\, Suite 116\, United States
CATEGORIES:default
END:VEVENT
BEGIN:VEVENT
DTSTART;TZID=UTC:20281005T170000
DTEND;TZID=UTC:20281005T200000
DTSTAMP:20260419T180639
CREATED:20251017T145539Z
LAST-MODIFIED:20251017T145633Z
UID:10000814-1854378000-1854388800@iueclocal63.org
SUMMARY:Executive Board Meeting
DESCRIPTION:
URL:https://iueclocal63.org/event/executive-board-meeting-3-2-2/2028-10-05/
LOCATION:3815 N Santa Fe Ave.\, Suite 126
CATEGORIES:default
END:VEVENT
BEGIN:VEVENT
DTSTART;TZID=UTC:20281005T173000
DTEND;TZID=UTC:20281005T183000
DTSTAMP:20260419T180639
CREATED:20250514T091444Z
LAST-MODIFIED:20250514T091630Z
UID:10000487-1854379800-1854383400@iueclocal63.org
SUMMARY:Union Meeting
DESCRIPTION:
URL:https://iueclocal63.org/event/union-meeting-2-2/2028-10-05/
LOCATION:3815 N Santa Fe Ave.\, Conference Room\, Suite 116\, United States
CATEGORIES:default
END:VEVENT
BEGIN:VEVENT
DTSTART;TZID=UTC:20281102T170000
DTEND;TZID=UTC:20281102T200000
DTSTAMP:20260419T180639
CREATED:20251017T145539Z
LAST-MODIFIED:20251017T145633Z
UID:10000815-1856797200-1856808000@iueclocal63.org
SUMMARY:Executive Board Meeting
DESCRIPTION:
URL:https://iueclocal63.org/event/executive-board-meeting-3-2-2/2028-11-02/
LOCATION:3815 N Santa Fe Ave.\, Suite 126
CATEGORIES:default
END:VEVENT
BEGIN:VEVENT
DTSTART;TZID=UTC:20281102T173000
DTEND;TZID=UTC:20281102T183000
DTSTAMP:20260419T180639
CREATED:20250514T091444Z
LAST-MODIFIED:20250514T091630Z
UID:10000488-1856799000-1856802600@iueclocal63.org
SUMMARY:Union Meeting
DESCRIPTION:
URL:https://iueclocal63.org/event/union-meeting-2-2/2028-11-02/
LOCATION:3815 N Santa Fe Ave.\, Conference Room\, Suite 116\, United States
CATEGORIES:default
END:VEVENT
BEGIN:VEVENT
DTSTART;TZID=UTC:20281207T170000
DTEND;TZID=UTC:20281207T200000
DTSTAMP:20260419T180639
CREATED:20251017T145539Z
LAST-MODIFIED:20251017T145633Z
UID:10000816-1859821200-1859832000@iueclocal63.org
SUMMARY:Executive Board Meeting
DESCRIPTION:
URL:https://iueclocal63.org/event/executive-board-meeting-3-2-2/2028-12-07/
LOCATION:3815 N Santa Fe Ave.\, Suite 126
CATEGORIES:default
END:VEVENT
BEGIN:VEVENT
DTSTART;TZID=UTC:20281207T173000
DTEND;TZID=UTC:20281207T183000
DTSTAMP:20260419T180639
CREATED:20250514T091444Z
LAST-MODIFIED:20250514T091630Z
UID:10000489-1859823000-1859826600@iueclocal63.org
SUMMARY:Union Meeting
DESCRIPTION:
URL:https://iueclocal63.org/event/union-meeting-2-2/2028-12-07/
LOCATION:3815 N Santa Fe Ave.\, Conference Room\, Suite 116\, United States
CATEGORIES:default
END:VEVENT
BEGIN:VEVENT
DTSTART;TZID=UTC:20290104T170000
DTEND;TZID=UTC:20290104T200000
DTSTAMP:20260419T180639
CREATED:20251017T145539Z
LAST-MODIFIED:20251017T145633Z
UID:10000817-1862240400-1862251200@iueclocal63.org
SUMMARY:Executive Board Meeting
DESCRIPTION:
URL:https://iueclocal63.org/event/executive-board-meeting-3-2-2/2029-01-04/
LOCATION:3815 N Santa Fe Ave.\, Suite 126
CATEGORIES:default
END:VEVENT
BEGIN:VEVENT
DTSTART;TZID=UTC:20290104T173000
DTEND;TZID=UTC:20290104T183000
DTSTAMP:20260419T180639
CREATED:20250514T091444Z
LAST-MODIFIED:20250514T091630Z
UID:10000490-1862242200-1862245800@iueclocal63.org
SUMMARY:Union Meeting
DESCRIPTION:
URL:https://iueclocal63.org/event/union-meeting-2-2/2029-01-04/
LOCATION:3815 N Santa Fe Ave.\, Conference Room\, Suite 116\, United States
CATEGORIES:default
END:VEVENT
BEGIN:VEVENT
DTSTART;TZID=UTC:20290201T170000
DTEND;TZID=UTC:20290201T200000
DTSTAMP:20260419T180639
CREATED:20251017T145539Z
LAST-MODIFIED:20251017T145633Z
UID:10000818-1864659600-1864670400@iueclocal63.org
SUMMARY:Executive Board Meeting
DESCRIPTION:
URL:https://iueclocal63.org/event/executive-board-meeting-3-2-2/2029-02-01/
LOCATION:3815 N Santa Fe Ave.\, Suite 126
CATEGORIES:default
END:VEVENT
BEGIN:VEVENT
DTSTART;TZID=UTC:20290201T173000
DTEND;TZID=UTC:20290201T183000
DTSTAMP:20260419T180639
CREATED:20250514T091444Z
LAST-MODIFIED:20250514T091630Z
UID:10000491-1864661400-1864665000@iueclocal63.org
SUMMARY:Union Meeting
DESCRIPTION:
URL:https://iueclocal63.org/event/union-meeting-2-2/2029-02-01/
LOCATION:3815 N Santa Fe Ave.\, Conference Room\, Suite 116\, United States
CATEGORIES:default
END:VEVENT
BEGIN:VEVENT
DTSTART;TZID=UTC:20290301T170000
DTEND;TZID=UTC:20290301T200000
DTSTAMP:20260419T180639
CREATED:20251017T145539Z
LAST-MODIFIED:20251017T145633Z
UID:10000819-1867078800-1867089600@iueclocal63.org
SUMMARY:Executive Board Meeting
DESCRIPTION:
URL:https://iueclocal63.org/event/executive-board-meeting-3-2-2/2029-03-01/
LOCATION:3815 N Santa Fe Ave.\, Suite 126
CATEGORIES:default
END:VEVENT
BEGIN:VEVENT
DTSTART;TZID=UTC:20290301T173000
DTEND;TZID=UTC:20290301T183000
DTSTAMP:20260419T180639
CREATED:20250514T091444Z
LAST-MODIFIED:20250514T091630Z
UID:10000492-1867080600-1867084200@iueclocal63.org
SUMMARY:Union Meeting
DESCRIPTION:
URL:https://iueclocal63.org/event/union-meeting-2-2/2029-03-01/
LOCATION:3815 N Santa Fe Ave.\, Conference Room\, Suite 116\, United States
CATEGORIES:default
END:VEVENT
BEGIN:VEVENT
DTSTART;TZID=UTC:20290405T170000
DTEND;TZID=UTC:20290405T200000
DTSTAMP:20260419T180639
CREATED:20251017T145539Z
LAST-MODIFIED:20251017T145633Z
UID:10000820-1870102800-1870113600@iueclocal63.org
SUMMARY:Executive Board Meeting
DESCRIPTION:
URL:https://iueclocal63.org/event/executive-board-meeting-3-2-2/2029-04-05/
LOCATION:3815 N Santa Fe Ave.\, Suite 126
CATEGORIES:default
END:VEVENT
BEGIN:VEVENT
DTSTART;TZID=UTC:20290405T173000
DTEND;TZID=UTC:20290405T183000
DTSTAMP:20260419T180639
CREATED:20250514T091444Z
LAST-MODIFIED:20250514T091630Z
UID:10000493-1870104600-1870108200@iueclocal63.org
SUMMARY:Union Meeting
DESCRIPTION:
URL:https://iueclocal63.org/event/union-meeting-2-2/2029-04-05/
LOCATION:3815 N Santa Fe Ave.\, Conference Room\, Suite 116\, United States
CATEGORIES:default
END:VEVENT
BEGIN:VEVENT
DTSTART;TZID=UTC:20290503T170000
DTEND;TZID=UTC:20290503T200000
DTSTAMP:20260419T180639
CREATED:20251017T145539Z
LAST-MODIFIED:20251017T145633Z
UID:10000821-1872522000-1872532800@iueclocal63.org
SUMMARY:Executive Board Meeting
DESCRIPTION:
URL:https://iueclocal63.org/event/executive-board-meeting-3-2-2/2029-05-03/
LOCATION:3815 N Santa Fe Ave.\, Suite 126
CATEGORIES:default
END:VEVENT
BEGIN:VEVENT
DTSTART;TZID=UTC:20290503T173000
DTEND;TZID=UTC:20290503T183000
DTSTAMP:20260419T180639
CREATED:20250514T091444Z
LAST-MODIFIED:20250514T091630Z
UID:10000494-1872523800-1872527400@iueclocal63.org
SUMMARY:Union Meeting
DESCRIPTION:
URL:https://iueclocal63.org/event/union-meeting-2-2/2029-05-03/
LOCATION:3815 N Santa Fe Ave.\, Conference Room\, Suite 116\, United States
CATEGORIES:default
END:VEVENT
BEGIN:VEVENT
DTSTART;TZID=UTC:20290607T170000
DTEND;TZID=UTC:20290607T200000
DTSTAMP:20260419T180639
CREATED:20251017T145539Z
LAST-MODIFIED:20251017T145633Z
UID:10000822-1875546000-1875556800@iueclocal63.org
SUMMARY:Executive Board Meeting
DESCRIPTION:
URL:https://iueclocal63.org/event/executive-board-meeting-3-2-2/2029-06-07/
LOCATION:3815 N Santa Fe Ave.\, Suite 126
CATEGORIES:default
END:VEVENT
BEGIN:VEVENT
DTSTART;TZID=UTC:20290607T173000
DTEND;TZID=UTC:20290607T183000
DTSTAMP:20260419T180639
CREATED:20250514T091444Z
LAST-MODIFIED:20250514T091630Z
UID:10000495-1875547800-1875551400@iueclocal63.org
SUMMARY:Union Meeting
DESCRIPTION:
URL:https://iueclocal63.org/event/union-meeting-2-2/2029-06-07/
LOCATION:3815 N Santa Fe Ave.\, Conference Room\, Suite 116\, United States
CATEGORIES:default
END:VEVENT
BEGIN:VEVENT
DTSTART;TZID=UTC:20290705T170000
DTEND;TZID=UTC:20290705T200000
DTSTAMP:20260419T180639
CREATED:20251017T145539Z
LAST-MODIFIED:20251017T145633Z
UID:10000823-1877965200-1877976000@iueclocal63.org
SUMMARY:Executive Board Meeting
DESCRIPTION:
URL:https://iueclocal63.org/event/executive-board-meeting-3-2-2/2029-07-05/
LOCATION:3815 N Santa Fe Ave.\, Suite 126
CATEGORIES:default
END:VEVENT
BEGIN:VEVENT
DTSTART;TZID=UTC:20290705T173000
DTEND;TZID=UTC:20290705T183000
DTSTAMP:20260419T180639
CREATED:20250514T091444Z
LAST-MODIFIED:20250514T091630Z
UID:10000496-1877967000-1877970600@iueclocal63.org
SUMMARY:Union Meeting
DESCRIPTION:
URL:https://iueclocal63.org/event/union-meeting-2-2/2029-07-05/
LOCATION:3815 N Santa Fe Ave.\, Conference Room\, Suite 116\, United States
CATEGORIES:default
END:VEVENT
BEGIN:VEVENT
DTSTART;TZID=UTC:20290802T170000
DTEND;TZID=UTC:20290802T200000
DTSTAMP:20260419T180639
CREATED:20251017T145539Z
LAST-MODIFIED:20251017T145633Z
UID:10000824-1880384400-1880395200@iueclocal63.org
SUMMARY:Executive Board Meeting
DESCRIPTION:
URL:https://iueclocal63.org/event/executive-board-meeting-3-2-2/2029-08-02/
LOCATION:3815 N Santa Fe Ave.\, Suite 126
CATEGORIES:default
END:VEVENT
BEGIN:VEVENT
DTSTART;TZID=UTC:20290802T173000
DTEND;TZID=UTC:20290802T183000
DTSTAMP:20260419T180639
CREATED:20250514T091444Z
LAST-MODIFIED:20250514T091630Z
UID:10000497-1880386200-1880389800@iueclocal63.org
SUMMARY:Union Meeting
DESCRIPTION:
URL:https://iueclocal63.org/event/union-meeting-2-2/2029-08-02/
LOCATION:3815 N Santa Fe Ave.\, Conference Room\, Suite 116\, United States
CATEGORIES:default
END:VEVENT
BEGIN:VEVENT
DTSTART;TZID=UTC:20290906T170000
DTEND;TZID=UTC:20290906T200000
DTSTAMP:20260419T180639
CREATED:20251017T145539Z
LAST-MODIFIED:20251017T145633Z
UID:10000825-1883408400-1883419200@iueclocal63.org
SUMMARY:Executive Board Meeting
DESCRIPTION:
URL:https://iueclocal63.org/event/executive-board-meeting-3-2-2/2029-09-06/
LOCATION:3815 N Santa Fe Ave.\, Suite 126
CATEGORIES:default
END:VEVENT
BEGIN:VEVENT
DTSTART;TZID=UTC:20290906T173000
DTEND;TZID=UTC:20290906T183000
DTSTAMP:20260419T180639
CREATED:20250514T091444Z
LAST-MODIFIED:20250514T091630Z
UID:10000498-1883410200-1883413800@iueclocal63.org
SUMMARY:Union Meeting
DESCRIPTION:
URL:https://iueclocal63.org/event/union-meeting-2-2/2029-09-06/
LOCATION:3815 N Santa Fe Ave.\, Conference Room\, Suite 116\, United States
CATEGORIES:default
END:VEVENT
BEGIN:VEVENT
DTSTART;TZID=UTC:20291004T170000
DTEND;TZID=UTC:20291004T200000
DTSTAMP:20260419T180639
CREATED:20251017T145539Z
LAST-MODIFIED:20251017T145633Z
UID:10000826-1885827600-1885838400@iueclocal63.org
SUMMARY:Executive Board Meeting
DESCRIPTION:
URL:https://iueclocal63.org/event/executive-board-meeting-3-2-2/2029-10-04/
LOCATION:3815 N Santa Fe Ave.\, Suite 126
CATEGORIES:default
END:VEVENT
BEGIN:VEVENT
DTSTART;TZID=UTC:20291004T173000
DTEND;TZID=UTC:20291004T183000
DTSTAMP:20260419T180639
CREATED:20250514T091444Z
LAST-MODIFIED:20250514T091630Z
UID:10000499-1885829400-1885833000@iueclocal63.org
SUMMARY:Union Meeting
DESCRIPTION:
URL:https://iueclocal63.org/event/union-meeting-2-2/2029-10-04/
LOCATION:3815 N Santa Fe Ave.\, Conference Room\, Suite 116\, United States
CATEGORIES:default
END:VEVENT
BEGIN:VEVENT
DTSTART;TZID=UTC:20291101T170000
DTEND;TZID=UTC:20291101T200000
DTSTAMP:20260419T180639
CREATED:20251017T145539Z
LAST-MODIFIED:20251017T145633Z
UID:10000827-1888246800-1888257600@iueclocal63.org
SUMMARY:Executive Board Meeting
DESCRIPTION:
URL:https://iueclocal63.org/event/executive-board-meeting-3-2-2/2029-11-01/
LOCATION:3815 N Santa Fe Ave.\, Suite 126
CATEGORIES:default
END:VEVENT
BEGIN:VEVENT
DTSTART;TZID=UTC:20291101T173000
DTEND;TZID=UTC:20291101T183000
DTSTAMP:20260419T180639
CREATED:20250514T091444Z
LAST-MODIFIED:20250514T091630Z
UID:10000500-1888248600-1888252200@iueclocal63.org
SUMMARY:Union Meeting
DESCRIPTION:
URL:https://iueclocal63.org/event/union-meeting-2-2/2029-11-01/
LOCATION:3815 N Santa Fe Ave.\, Conference Room\, Suite 116\, United States
CATEGORIES:default
END:VEVENT
BEGIN:VEVENT
DTSTART;TZID=UTC:20291206T170000
DTEND;TZID=UTC:20291206T200000
DTSTAMP:20260419T180639
CREATED:20251017T145539Z
LAST-MODIFIED:20251017T145633Z
UID:10000828-1891270800-1891281600@iueclocal63.org
SUMMARY:Executive Board Meeting
DESCRIPTION:
URL:https://iueclocal63.org/event/executive-board-meeting-3-2-2/2029-12-06/
LOCATION:3815 N Santa Fe Ave.\, Suite 126
CATEGORIES:default
END:VEVENT
END:VCALENDAR