BEGIN:VCALENDAR
VERSION:2.0
PRODID:-//Local 63 - ECPv6.15.18//NONSGML v1.0//EN
CALSCALE:GREGORIAN
METHOD:PUBLISH
X-ORIGINAL-URL:https://iueclocal63.org
X-WR-CALDESC:Events for Local 63
REFRESH-INTERVAL;VALUE=DURATION:PT1H
X-Robots-Tag:noindex
X-PUBLISHED-TTL:PT1H
BEGIN:VTIMEZONE
TZID:UTC
BEGIN:STANDARD
TZOFFSETFROM:+0000
TZOFFSETTO:+0000
TZNAME:UTC
DTSTART:20240101T000000
END:STANDARD
END:VTIMEZONE
BEGIN:VEVENT
DTSTART;TZID=UTC:20250904T170000
DTEND;TZID=UTC:20250904T200000
DTSTAMP:20260422T230831
CREATED:20250514T093133Z
LAST-MODIFIED:20250514T093403Z
UID:10000646-1757005200-1757016000@iueclocal63.org
SUMMARY:Executive Board Meeting
DESCRIPTION:
URL:https://iueclocal63.org/event/executive-board-meeting-3-2/2025-09-04/
LOCATION:3815 N Santa Fe Ave.\, Suite 126
CATEGORIES:default
END:VEVENT
BEGIN:VEVENT
DTSTART;TZID=UTC:20250904T173000
DTEND;TZID=UTC:20250904T183000
DTSTAMP:20260422T230831
CREATED:20250514T091444Z
LAST-MODIFIED:20250514T091630Z
UID:10000450-1757007000-1757010600@iueclocal63.org
SUMMARY:Union Meeting
DESCRIPTION:
URL:https://iueclocal63.org/event/union-meeting-2-2/2025-09-04/
LOCATION:3815 N Santa Fe Ave.\, Conference Room\, Suite 116\, United States
CATEGORIES:default
END:VEVENT
BEGIN:VEVENT
DTSTART;TZID=UTC:20250910T163000
DTEND;TZID=UTC:20250910T170000
DTSTAMP:20260422T230831
CREATED:20250805T145224Z
LAST-MODIFIED:20250805T154007Z
UID:10000714-1757521800-1757523600@iueclocal63.org
SUMMARY:Joint Apprenticeship Committee Meeting
DESCRIPTION:
URL:https://iueclocal63.org/event/joint-apprenticeship-committee-meeting-2/2025-09-10/
CATEGORIES:default
END:VEVENT
BEGIN:VEVENT
DTSTART;TZID=UTC:20251002T170000
DTEND;TZID=UTC:20251002T200000
DTSTAMP:20260422T230831
CREATED:20250514T093133Z
LAST-MODIFIED:20250514T093403Z
UID:10000647-1759424400-1759435200@iueclocal63.org
SUMMARY:Executive Board Meeting
DESCRIPTION:
URL:https://iueclocal63.org/event/executive-board-meeting-3-2/2025-10-02/
LOCATION:3815 N Santa Fe Ave.\, Suite 126
CATEGORIES:default
END:VEVENT
BEGIN:VEVENT
DTSTART;TZID=UTC:20251002T173000
DTEND;TZID=UTC:20251002T183000
DTSTAMP:20260422T230831
CREATED:20250514T091444Z
LAST-MODIFIED:20250514T091630Z
UID:10000451-1759426200-1759429800@iueclocal63.org
SUMMARY:Union Meeting
DESCRIPTION:
URL:https://iueclocal63.org/event/union-meeting-2-2/2025-10-02/
LOCATION:3815 N Santa Fe Ave.\, Conference Room\, Suite 116\, United States
CATEGORIES:default
END:VEVENT
BEGIN:VEVENT
DTSTART;TZID=UTC:20251008T163000
DTEND;TZID=UTC:20251008T170000
DTSTAMP:20260422T230831
CREATED:20250805T145224Z
LAST-MODIFIED:20250805T154007Z
UID:10000715-1759941000-1759942800@iueclocal63.org
SUMMARY:Joint Apprenticeship Committee Meeting
DESCRIPTION:
URL:https://iueclocal63.org/event/joint-apprenticeship-committee-meeting-2/2025-10-08/
CATEGORIES:default
END:VEVENT
BEGIN:VEVENT
DTSTART;TZID=UTC:20251112T163000
DTEND;TZID=UTC:20251112T170000
DTSTAMP:20260422T230831
CREATED:20250805T145224Z
LAST-MODIFIED:20250805T154007Z
UID:10000716-1762965000-1762966800@iueclocal63.org
SUMMARY:Joint Apprenticeship Committee Meeting
DESCRIPTION:
URL:https://iueclocal63.org/event/joint-apprenticeship-committee-meeting-2/2025-11-12/
CATEGORIES:default
END:VEVENT
BEGIN:VEVENT
DTSTART;TZID=UTC:20251113T170000
DTEND;TZID=UTC:20251113T200000
DTSTAMP:20260422T230831
CREATED:20251017T145754Z
LAST-MODIFIED:20251017T145806Z
UID:10000779-1763053200-1763064000@iueclocal63.org
SUMMARY:Executive Board Meeting
DESCRIPTION:
URL:https://iueclocal63.org/event/executive-board-meeting-7/
LOCATION:3815 N Santa Fe Ave.\, Suite 126
CATEGORIES:default
END:VEVENT
BEGIN:VEVENT
DTSTART;TZID=UTC:20251113T173000
DTEND;TZID=UTC:20251113T183000
DTSTAMP:20260422T230831
CREATED:20251017T150050Z
LAST-MODIFIED:20251017T150050Z
UID:10000452-1763055000-1763058600@iueclocal63.org
SUMMARY:Union Meeting
DESCRIPTION:
URL:https://iueclocal63.org/event/union-meeting-6/
LOCATION:3815 N Santa Fe Ave.\, Conference Room\, Suite 116\, United States
CATEGORIES:default
END:VEVENT
BEGIN:VEVENT
DTSTART;TZID=UTC:20251204T170000
DTEND;TZID=UTC:20251204T200000
DTSTAMP:20260422T230831
CREATED:20251017T145539Z
LAST-MODIFIED:20251017T145633Z
UID:10000780-1764867600-1764878400@iueclocal63.org
SUMMARY:Executive Board Meeting
DESCRIPTION:
URL:https://iueclocal63.org/event/executive-board-meeting-3-2-2/2025-12-04/
LOCATION:3815 N Santa Fe Ave.\, Suite 126
CATEGORIES:default
END:VEVENT
BEGIN:VEVENT
DTSTART;TZID=UTC:20251204T173000
DTEND;TZID=UTC:20251204T183000
DTSTAMP:20260422T230831
CREATED:20250514T091444Z
LAST-MODIFIED:20250514T091630Z
UID:10000453-1764869400-1764873000@iueclocal63.org
SUMMARY:Union Meeting
DESCRIPTION:
URL:https://iueclocal63.org/event/union-meeting-2-2/2025-12-04/
LOCATION:3815 N Santa Fe Ave.\, Conference Room\, Suite 116\, United States
CATEGORIES:default
END:VEVENT
BEGIN:VEVENT
DTSTART;TZID=UTC:20251210T163000
DTEND;TZID=UTC:20251210T170000
DTSTAMP:20260422T230831
CREATED:20250805T145224Z
LAST-MODIFIED:20250805T154007Z
UID:10000717-1765384200-1765386000@iueclocal63.org
SUMMARY:Joint Apprenticeship Committee Meeting
DESCRIPTION:
URL:https://iueclocal63.org/event/joint-apprenticeship-committee-meeting-2/2025-12-10/
CATEGORIES:default
END:VEVENT
BEGIN:VEVENT
DTSTART;TZID=UTC:20260108T170000
DTEND;TZID=UTC:20260108T200000
DTSTAMP:20260422T230831
CREATED:20251017T150230Z
LAST-MODIFIED:20251017T150245Z
UID:10000781-1767891600-1767902400@iueclocal63.org
SUMMARY:Executive Board Meeting
DESCRIPTION:
URL:https://iueclocal63.org/event/executive-board-meeting-8/
LOCATION:3815 N Santa Fe Ave.\, Suite 126
CATEGORIES:default
END:VEVENT
BEGIN:VEVENT
DTSTART;TZID=UTC:20260108T173000
DTEND;TZID=UTC:20260108T183000
DTSTAMP:20260422T230831
CREATED:20251017T150058Z
LAST-MODIFIED:20251017T150123Z
UID:10000454-1767893400-1767897000@iueclocal63.org
SUMMARY:Union Meeting
DESCRIPTION:
URL:https://iueclocal63.org/event/union-meeting-7/
LOCATION:3815 N Santa Fe Ave.\, Conference Room\, Suite 116\, United States
CATEGORIES:default
END:VEVENT
BEGIN:VEVENT
DTSTART;TZID=UTC:20260114T163000
DTEND;TZID=UTC:20260114T170000
DTSTAMP:20260422T230831
CREATED:20250805T145224Z
LAST-MODIFIED:20250805T154007Z
UID:10000718-1768408200-1768410000@iueclocal63.org
SUMMARY:Joint Apprenticeship Committee Meeting
DESCRIPTION:
URL:https://iueclocal63.org/event/joint-apprenticeship-committee-meeting-2/2026-01-14/
CATEGORIES:default
END:VEVENT
BEGIN:VEVENT
DTSTART;TZID=UTC:20260205T170000
DTEND;TZID=UTC:20260205T200000
DTSTAMP:20260422T230831
CREATED:20251017T145539Z
LAST-MODIFIED:20251017T145633Z
UID:10000782-1770310800-1770321600@iueclocal63.org
SUMMARY:Executive Board Meeting
DESCRIPTION:
URL:https://iueclocal63.org/event/executive-board-meeting-3-2-2/2026-02-05/
LOCATION:3815 N Santa Fe Ave.\, Suite 126
CATEGORIES:default
END:VEVENT
BEGIN:VEVENT
DTSTART;TZID=UTC:20260205T173000
DTEND;TZID=UTC:20260205T183000
DTSTAMP:20260422T230831
CREATED:20250514T091444Z
LAST-MODIFIED:20250514T091630Z
UID:10000455-1770312600-1770316200@iueclocal63.org
SUMMARY:Union Meeting
DESCRIPTION:
URL:https://iueclocal63.org/event/union-meeting-2-2/2026-02-05/
LOCATION:3815 N Santa Fe Ave.\, Conference Room\, Suite 116\, United States
CATEGORIES:default
END:VEVENT
BEGIN:VEVENT
DTSTART;TZID=UTC:20260211T163000
DTEND;TZID=UTC:20260211T170000
DTSTAMP:20260422T230831
CREATED:20250805T145224Z
LAST-MODIFIED:20250805T154007Z
UID:10000719-1770827400-1770829200@iueclocal63.org
SUMMARY:Joint Apprenticeship Committee Meeting
DESCRIPTION:
URL:https://iueclocal63.org/event/joint-apprenticeship-committee-meeting-2/2026-02-11/
CATEGORIES:default
END:VEVENT
BEGIN:VEVENT
DTSTART;TZID=UTC:20260305T170000
DTEND;TZID=UTC:20260305T200000
DTSTAMP:20260422T230831
CREATED:20251017T145539Z
LAST-MODIFIED:20251017T145633Z
UID:10000783-1772730000-1772740800@iueclocal63.org
SUMMARY:Executive Board Meeting
DESCRIPTION:
URL:https://iueclocal63.org/event/executive-board-meeting-3-2-2/2026-03-05/
LOCATION:3815 N Santa Fe Ave.\, Suite 126
CATEGORIES:default
END:VEVENT
BEGIN:VEVENT
DTSTART;TZID=UTC:20260305T173000
DTEND;TZID=UTC:20260305T183000
DTSTAMP:20260422T230831
CREATED:20250514T091444Z
LAST-MODIFIED:20250514T091630Z
UID:10000456-1772731800-1772735400@iueclocal63.org
SUMMARY:Union Meeting
DESCRIPTION:
URL:https://iueclocal63.org/event/union-meeting-2-2/2026-03-05/
LOCATION:3815 N Santa Fe Ave.\, Conference Room\, Suite 116\, United States
CATEGORIES:default
END:VEVENT
BEGIN:VEVENT
DTSTART;TZID=UTC:20260402T170000
DTEND;TZID=UTC:20260402T200000
DTSTAMP:20260422T230831
CREATED:20251017T145539Z
LAST-MODIFIED:20251017T145633Z
UID:10000784-1775149200-1775160000@iueclocal63.org
SUMMARY:Executive Board Meeting
DESCRIPTION:
URL:https://iueclocal63.org/event/executive-board-meeting-3-2-2/2026-04-02/
LOCATION:3815 N Santa Fe Ave.\, Suite 126
CATEGORIES:default
END:VEVENT
BEGIN:VEVENT
DTSTART;TZID=UTC:20260402T173000
DTEND;TZID=UTC:20260402T183000
DTSTAMP:20260422T230831
CREATED:20250514T091444Z
LAST-MODIFIED:20250514T091630Z
UID:10000457-1775151000-1775154600@iueclocal63.org
SUMMARY:Union Meeting
DESCRIPTION:
URL:https://iueclocal63.org/event/union-meeting-2-2/2026-04-02/
LOCATION:3815 N Santa Fe Ave.\, Conference Room\, Suite 116\, United States
CATEGORIES:default
END:VEVENT
BEGIN:VEVENT
DTSTART;VALUE=DATE:20260428
DTEND;VALUE=DATE:20260501
DTSTAMP:20260422T230831
CREATED:20251113T155332Z
LAST-MODIFIED:20251113T155332Z
UID:10000844-1777359600-1777532399@iueclocal63.org
SUMMARY:IUEC Global Safety Summit
DESCRIPTION:
URL:https://iueclocal63.org/event/iuec-global-safety-summit/
CATEGORIES:default
END:VEVENT
BEGIN:VEVENT
DTSTART;TZID=UTC:20260507T170000
DTEND;TZID=UTC:20260507T200000
DTSTAMP:20260422T230831
CREATED:20251017T145539Z
LAST-MODIFIED:20251017T145633Z
UID:10000785-1778173200-1778184000@iueclocal63.org
SUMMARY:Executive Board Meeting
DESCRIPTION:
URL:https://iueclocal63.org/event/executive-board-meeting-3-2-2/2026-05-07/
LOCATION:3815 N Santa Fe Ave.\, Suite 126
CATEGORIES:default
END:VEVENT
BEGIN:VEVENT
DTSTART;TZID=UTC:20260507T173000
DTEND;TZID=UTC:20260507T183000
DTSTAMP:20260422T230831
CREATED:20250514T091444Z
LAST-MODIFIED:20250514T091630Z
UID:10000458-1778175000-1778178600@iueclocal63.org
SUMMARY:Union Meeting
DESCRIPTION:
URL:https://iueclocal63.org/event/union-meeting-2-2/2026-05-07/
LOCATION:3815 N Santa Fe Ave.\, Conference Room\, Suite 116\, United States
CATEGORIES:default
END:VEVENT
BEGIN:VEVENT
DTSTART;TZID=UTC:20260604T170000
DTEND;TZID=UTC:20260604T200000
DTSTAMP:20260422T230831
CREATED:20251017T145539Z
LAST-MODIFIED:20251017T145633Z
UID:10000786-1780592400-1780603200@iueclocal63.org
SUMMARY:Executive Board Meeting
DESCRIPTION:
URL:https://iueclocal63.org/event/executive-board-meeting-3-2-2/2026-06-04/
LOCATION:3815 N Santa Fe Ave.\, Suite 126
CATEGORIES:default
END:VEVENT
BEGIN:VEVENT
DTSTART;TZID=UTC:20260604T173000
DTEND;TZID=UTC:20260604T183000
DTSTAMP:20260422T230831
CREATED:20250514T091444Z
LAST-MODIFIED:20250514T091630Z
UID:10000459-1780594200-1780597800@iueclocal63.org
SUMMARY:Union Meeting
DESCRIPTION:
URL:https://iueclocal63.org/event/union-meeting-2-2/2026-06-04/
LOCATION:3815 N Santa Fe Ave.\, Conference Room\, Suite 116\, United States
CATEGORIES:default
END:VEVENT
BEGIN:VEVENT
DTSTART;TZID=UTC:20260702T170000
DTEND;TZID=UTC:20260702T200000
DTSTAMP:20260422T230831
CREATED:20251017T145539Z
LAST-MODIFIED:20251017T145633Z
UID:10000787-1783011600-1783022400@iueclocal63.org
SUMMARY:Executive Board Meeting
DESCRIPTION:
URL:https://iueclocal63.org/event/executive-board-meeting-3-2-2/2026-07-02/
LOCATION:3815 N Santa Fe Ave.\, Suite 126
CATEGORIES:default
END:VEVENT
BEGIN:VEVENT
DTSTART;TZID=UTC:20260702T173000
DTEND;TZID=UTC:20260702T183000
DTSTAMP:20260422T230831
CREATED:20250514T091444Z
LAST-MODIFIED:20250514T091630Z
UID:10000460-1783013400-1783017000@iueclocal63.org
SUMMARY:Union Meeting
DESCRIPTION:
URL:https://iueclocal63.org/event/union-meeting-2-2/2026-07-02/
LOCATION:3815 N Santa Fe Ave.\, Conference Room\, Suite 116\, United States
CATEGORIES:default
END:VEVENT
BEGIN:VEVENT
DTSTART;TZID=UTC:20260806T170000
DTEND;TZID=UTC:20260806T200000
DTSTAMP:20260422T230831
CREATED:20251017T145539Z
LAST-MODIFIED:20251017T145633Z
UID:10000788-1786035600-1786046400@iueclocal63.org
SUMMARY:Executive Board Meeting
DESCRIPTION:
URL:https://iueclocal63.org/event/executive-board-meeting-3-2-2/2026-08-06/
LOCATION:3815 N Santa Fe Ave.\, Suite 126
CATEGORIES:default
END:VEVENT
END:VCALENDAR