BEGIN:VCALENDAR
VERSION:2.0
PRODID:-//Local 63 - ECPv6.15.18//NONSGML v1.0//EN
CALSCALE:GREGORIAN
METHOD:PUBLISH
X-ORIGINAL-URL:https://iueclocal63.org
X-WR-CALDESC:Events for Local 63
REFRESH-INTERVAL;VALUE=DURATION:PT1H
X-Robots-Tag:noindex
X-PUBLISHED-TTL:PT1H
BEGIN:VTIMEZONE
TZID:UTC
BEGIN:STANDARD
TZOFFSETFROM:+0000
TZOFFSETTO:+0000
TZNAME:UTC
DTSTART:20250101T000000
END:STANDARD
END:VTIMEZONE
BEGIN:VEVENT
DTSTART;TZID=UTC:20260114T163000
DTEND;TZID=UTC:20260114T170000
DTSTAMP:20260420T160406
CREATED:20250805T145224Z
LAST-MODIFIED:20250805T154007Z
UID:10000718-1768408200-1768410000@iueclocal63.org
SUMMARY:Joint Apprenticeship Committee Meeting
DESCRIPTION:
URL:https://iueclocal63.org/event/joint-apprenticeship-committee-meeting-2/2026-01-14/
CATEGORIES:default
END:VEVENT
END:VCALENDAR